BEGIN:VCALENDAR
VERSION:2.0
PRODID:-//ChamberMaster//Event Calendar 2.0//EN
METHOD:PUBLISH
X-PUBLISHED-TTL:P3D
REFRESH-INTERVAL:P3D
CALSCALE:GREGORIAN
BEGIN:VEVENT
DTSTART:20191101T153000Z
DTEND:20191101T160000Z
X-MICROSOFT-CDO-ALLDAYEVENT:FALSE
SUMMARY:Ribbon Cutting
DESCRIPTION:MU Health Care Ribbon Cutting
X-ALT-DESC;FMTTYPE=text/html:MU Health Care Ribbon Cutting
LOCATION:YMCA of Callaway County
UID:e.1836.10606
SEQUENCE:3
DTSTAMP:20260425T013810Z
URL:https://business.callawaychamber.net/events/details/ribbon-cutting-10606
END:VEVENT

END:VCALENDAR
