BEGIN:VCALENDAR
VERSION:2.0
PRODID:-//ChamberMaster//Event Calendar 2.0//EN
METHOD:PUBLISH
X-PUBLISHED-TTL:P3D
REFRESH-INTERVAL:P3D
CALSCALE:GREGORIAN
BEGIN:VEVENT
DTSTART:20191105T150000Z
DTEND:20191105T153000Z
X-MICROSOFT-CDO-ALLDAYEVENT:FALSE
SUMMARY:Ribbon Cutting
DESCRIPTION:Ribbon Cutting - GoPo-The Popcorn Bar
X-ALT-DESC;FMTTYPE=text/html:Ribbon Cutting - GoPo-The Popcorn Bar
LOCATION:525 Court Street Fulton MO 65251
UID:e.1836.10614
SEQUENCE:3
DTSTAMP:20260425T013735Z
URL:https://business.callawaychamber.net/events/details/ribbon-cutting-10614
END:VEVENT

END:VCALENDAR
