BEGIN:VCALENDAR
VERSION:2.0
PRODID:-//ChamberMaster//Event Calendar 2.0//EN
METHOD:PUBLISH
X-PUBLISHED-TTL:P3D
REFRESH-INTERVAL:P3D
CALSCALE:GREGORIAN
BEGIN:VEVENT
DTSTART:20191120T160000Z
DTEND:20191120T163000Z
X-MICROSOFT-CDO-ALLDAYEVENT:FALSE
SUMMARY:Ribbon Cutting
DESCRIPTION:Ribbon Cutting
X-ALT-DESC;FMTTYPE=text/html:Ribbon Cutting
LOCATION:Kingdom of Callaway Historical Society Research Center 106 East 4th Street Fulton MO 65251
UID:e.1836.10635
SEQUENCE:3
DTSTAMP:20260425T013755Z
URL:https://business.callawaychamber.net/events/details/ribbon-cutting-10635
END:VEVENT

END:VCALENDAR
