BEGIN:VCALENDAR
VERSION:2.0
PRODID:-//ChamberMaster//Event Calendar 2.0//EN
METHOD:PUBLISH
X-PUBLISHED-TTL:P3D
REFRESH-INTERVAL:P3D
CALSCALE:GREGORIAN
BEGIN:VEVENT
DTSTART:20191211T160000Z
DTEND:20191211T163000Z
X-MICROSOFT-CDO-ALLDAYEVENT:FALSE
SUMMARY:Ribbon Cutting
DESCRIPTION:Ribbon Cutting for United Credit Union's new location
X-ALT-DESC;FMTTYPE=text/html:Ribbon Cutting for United Credit Union&#39\;s new location
LOCATION:United Credit Union 1204 South Business 54 Fulton MO 65251
UID:e.1836.10655
SEQUENCE:3
DTSTAMP:20260424T235539Z
URL:https://business.callawaychamber.net/events/details/ribbon-cutting-10655
END:VEVENT

END:VCALENDAR
