BEGIN:VCALENDAR
VERSION:2.0
PRODID:-//ChamberMaster//Event Calendar 2.0//EN
METHOD:PUBLISH
X-PUBLISHED-TTL:P3D
REFRESH-INTERVAL:P3D
CALSCALE:GREGORIAN
BEGIN:VEVENT
DTSTART:20200501T150000Z
DTEND:20200501T153000Z
X-MICROSOFT-CDO-ALLDAYEVENT:FALSE
SUMMARY:Ribbon Cutting
DESCRIPTION:Coldwell Banker is rebranding!  Join us in celebrating this milestone with them with a ribbon cutting!
X-ALT-DESC;FMTTYPE=text/html:Coldwell Banker is rebranding!&nbsp\; Join us in celebrating this milestone with them with a ribbon cutting!&nbsp\;
LOCATION:1004 Bluff Fulton\, MO 65251
UID:e.1836.10678
SEQUENCE:3
DTSTAMP:20260424T163903Z
URL:https://business.callawaychamber.net/events/details/ribbon-cutting-10678
END:VEVENT

END:VCALENDAR
