BEGIN:VCALENDAR
VERSION:2.0
PRODID:-//ChamberMaster//Event Calendar 2.0//EN
METHOD:PUBLISH
X-PUBLISHED-TTL:P3D
REFRESH-INTERVAL:P3D
CALSCALE:GREGORIAN
BEGIN:VEVENT
DTSTART:20200715T150000Z
DTEND:20200715T160000Z
X-MICROSOFT-CDO-ALLDAYEVENT:FALSE
SUMMARY:Ribbon Cutting
DESCRIPTION:Ribbon Cutting for United Credit Union's mobile banking van
X-ALT-DESC;FMTTYPE=text/html:Ribbon Cutting for United Credit Union&#39\;s mobile banking van&nbsp\;&nbsp\;&nbsp\;&nbsp\;&nbsp\;&nbsp\;&nbsp\;&nbsp\;
LOCATION:United Credit Union parking lot 1204 S N Business 54\, Fulton\, MO 65251
UID:e.1836.10704
SEQUENCE:3
DTSTAMP:20260424T132539Z
URL:https://business.callawaychamber.net/events/details/ribbon-cutting-10704
END:VEVENT

END:VCALENDAR
