BEGIN:VCALENDAR
VERSION:2.0
PRODID:-//ChamberMaster//Event Calendar 2.0//EN
METHOD:PUBLISH
X-PUBLISHED-TTL:P3D
REFRESH-INTERVAL:P3D
CALSCALE:GREGORIAN
BEGIN:VEVENT
DTSTART:20210914T160000Z
DTEND:20210914T163000Z
X-MICROSOFT-CDO-ALLDAYEVENT:FALSE
SUMMARY:Ribbon Cutting
DESCRIPTION:Come help us celebrate Vogel-Guerrant Insurance's new location!
X-ALT-DESC;FMTTYPE=text/html:Come help us celebrate Vogel-Guerrant Insurance&#39\;s new location!
LOCATION:512 Market St Fulton\, MO 65251
UID:e.1836.10909
SEQUENCE:3
DTSTAMP:20260424T163806Z
URL:https://business.callawaychamber.net/events/details/ribbon-cutting-10909
END:VEVENT

END:VCALENDAR
