BEGIN:VCALENDAR
VERSION:2.0
PRODID:-//ChamberMaster//Event Calendar 2.0//EN
METHOD:PUBLISH
X-PUBLISHED-TTL:P3D
REFRESH-INTERVAL:P3D
CALSCALE:GREGORIAN
BEGIN:VEVENT
DTSTART:20211117T160000Z
DTEND:20211117T163000Z
X-MICROSOFT-CDO-ALLDAYEVENT:FALSE
SUMMARY:Ribbon Cutting
DESCRIPTION:Come help us celebrate the grand opening of Prickly Pear Antiques & More.
X-ALT-DESC;FMTTYPE=text/html:Come help us celebrate the grand opening of Prickly Pear Antiques &amp\; More.
LOCATION:515 Court Street\; Fulton\, MO
UID:e.1836.10930
SEQUENCE:3
DTSTAMP:20260424T210048Z
URL:https://business.callawaychamber.net/events/details/ribbon-cutting-10930
END:VEVENT

END:VCALENDAR
