BEGIN:VCALENDAR
VERSION:2.0
PRODID:-//ChamberMaster//Event Calendar 2.0//EN
METHOD:PUBLISH
X-PUBLISHED-TTL:P3D
REFRESH-INTERVAL:P3D
CALSCALE:GREGORIAN
BEGIN:VEVENT
DTSTART:20230223T213000Z
DTEND:20230223T220000Z
X-MICROSOFT-CDO-ALLDAYEVENT:FALSE
SUMMARY:Ribbon Cutting
DESCRIPTION:Join us for a ribbon cutting celebrating Fairy Floss Candy Magic on Thursday\, February 23 at 3:30pm.
X-ALT-DESC;FMTTYPE=text/html:Join us for a ribbon cutting celebrating Fairy Floss Candy Magic on Thursday\, February 23 at 3:30pm.&nbsp\;&nbsp\;&nbsp\;&nbsp\;
LOCATION:602 S. Business 54\; Fulton MO
UID:e.1836.11122
SEQUENCE:3
DTSTAMP:20260422T002422Z
URL:https://business.callawaychamber.net/events/details/ribbon-cutting-11122
END:VEVENT

END:VCALENDAR
