BEGIN:VCALENDAR
VERSION:2.0
PRODID:-//ChamberMaster//Event Calendar 2.0//EN
METHOD:PUBLISH
X-PUBLISHED-TTL:P3D
REFRESH-INTERVAL:P3D
CALSCALE:GREGORIAN
BEGIN:VEVENT
DTSTART:20230329T160000Z
DTEND:20230329T163000Z
X-MICROSOFT-CDO-ALLDAYEVENT:FALSE
SUMMARY:Ribbon Cutting
DESCRIPTION:Join us for a ribbon cutting on Wednesday\, March 29 at 11am at Re-Made for a Purpose.
X-ALT-DESC;FMTTYPE=text/html:Join us for a ribbon cutting on Wednesday\, March 29 at 11am at Re-Made for a Purpose.
LOCATION:17 W. 5th St\; Fulton\, MO 65251
UID:e.1836.11141
SEQUENCE:3
DTSTAMP:20260424T223739Z
URL:https://business.callawaychamber.net/events/details/ribbon-cutting-11141
END:VEVENT

END:VCALENDAR
