BEGIN:VCALENDAR
VERSION:2.0
PRODID:-//ChamberMaster//Event Calendar 2.0//EN
METHOD:PUBLISH
X-PUBLISHED-TTL:P3D
REFRESH-INTERVAL:P3D
CALSCALE:GREGORIAN
BEGIN:VEVENT
DTSTART:20230420T204500Z
DTEND:20230420T211500Z
X-MICROSOFT-CDO-ALLDAYEVENT:FALSE
SUMMARY:Ribbon Cutting
DESCRIPTION:Join us for a ribbon cutting on Thursday\, April 20th at 3:45pm to celebrate with the new owners of Smockingbirds.
X-ALT-DESC;FMTTYPE=text/html:Join us for a ribbon cutting on Thursday\, April 20th at 3:45pm to celebrate with the new owners of Smockingbirds.&nbsp\;
LOCATION:Smockingbirds 529 Court Street\; Suite 1 Fulton\, MO 65251
UID:e.1836.11143
SEQUENCE:3
DTSTAMP:20260426T013700Z
URL:https://business.callawaychamber.net/events/details/ribbon-cutting-11143
END:VEVENT

END:VCALENDAR
