BEGIN:VCALENDAR
VERSION:2.0
PRODID:-//ChamberMaster//Event Calendar 2.0//EN
METHOD:PUBLISH
X-PUBLISHED-TTL:P3D
REFRESH-INTERVAL:P3D
CALSCALE:GREGORIAN
BEGIN:VEVENT
DTSTART:20201001T150000Z
DTEND:20201001T153000Z
X-MICROSOFT-CDO-ALLDAYEVENT:FALSE
SUMMARY:Ribbon Cutting for Bombshells Salon & Spa
DESCRIPTION:Join as we celebrate the grandopening of Bombshells Salon & Spa!
X-ALT-DESC;FMTTYPE=text/html:Join as we celebrate the grandopening of Bombshells Salon &amp\; Spa!&nbsp\;
LOCATION:8 W 6th Street\, Fulton\, MO
UID:e.1836.10719
SEQUENCE:3
DTSTAMP:20260424T075724Z
URL:https://business.callawaychamber.net/events/details/ribbon-cutting-for-bombshells-salon-spa-10719
END:VEVENT

END:VCALENDAR
