BEGIN:VCALENDAR
VERSION:2.0
PRODID:-//ChamberMaster//Event Calendar 2.0//EN
METHOD:PUBLISH
X-PUBLISHED-TTL:P3D
REFRESH-INTERVAL:P3D
CALSCALE:GREGORIAN
BEGIN:VEVENT
DTSTART:20170718T180000Z
DTEND:20170718T190000Z
X-MICROSOFT-CDO-ALLDAYEVENT:FALSE
SUMMARY:Ribbon Cutting for Callabyte Technology
DESCRIPTION:Ribbon Cutting for Callabyte Technology
X-ALT-DESC;FMTTYPE=text/html:Ribbon Cutting for Callabyte Technology
LOCATION:Callaway Electric Cooperative 1313 Cooperative Drive Fulton MO 65251 (573) 642-3326
UID:e.1836.10204
SEQUENCE:3
DTSTAMP:20260424T223856Z
URL:https://business.callawaychamber.net/events/details/ribbon-cutting-for-callabyte-technology-10204
END:VEVENT

END:VCALENDAR
