BEGIN:VCALENDAR
VERSION:2.0
PRODID:-//ChamberMaster//Event Calendar 2.0//EN
METHOD:PUBLISH
X-PUBLISHED-TTL:P3D
REFRESH-INTERVAL:P3D
CALSCALE:GREGORIAN
BEGIN:VEVENT
DTSTART:20180727T210000Z
DTEND:20180727T213000Z
X-MICROSOFT-CDO-ALLDAYEVENT:FALSE
SUMMARY:Ribbon Cutting for PFSbrands
DESCRIPTION:Ribbon Cutting
X-ALT-DESC;FMTTYPE=text/html:Ribbon Cutting&nbsp\;&nbsp\;&nbsp\;&nbsp\;
LOCATION:PFSbrands 120 Commerce Drive Holts Summit MO 65043
UID:e.1836.10313
SEQUENCE:3
DTSTAMP:20260426T041958Z
URL:https://business.callawaychamber.net/events/details/ribbon-cutting-for-pfsbrands-10313
END:VEVENT

END:VCALENDAR
