BEGIN:VCALENDAR
VERSION:2.0
PRODID:-//ChamberMaster//Event Calendar 2.0//EN
METHOD:PUBLISH
X-PUBLISHED-TTL:P3D
REFRESH-INTERVAL:P3D
CALSCALE:GREGORIAN
BEGIN:VEVENT
DTSTART:20201112T200000Z
DTEND:20201112T203000Z
X-MICROSOFT-CDO-ALLDAYEVENT:FALSE
SUMMARY:Ribbon Cutting for Playhouse Cafe
DESCRIPTION:Join us for the ribbon cutting for the Playhouse Cafe!
X-ALT-DESC;FMTTYPE=text/html:Join us for the ribbon cutting for the Playhouse Cafe!&nbsp\;
LOCATION:613 Court St\, Fulton\, MO 65251
UID:e.1836.10754
SEQUENCE:3
DTSTAMP:20260424T080510Z
URL:https://business.callawaychamber.net/events/details/ribbon-cutting-for-playhouse-cafe-10754
END:VEVENT

END:VCALENDAR
