BEGIN:VCALENDAR
VERSION:2.0
PRODID:-//ChamberMaster//Event Calendar 2.0//EN
METHOD:PUBLISH
X-PUBLISHED-TTL:P3D
REFRESH-INTERVAL:P3D
CALSCALE:GREGORIAN
BEGIN:VEVENT
DTSTART:20201005T150000Z
DTEND:20201005T160000Z
X-MICROSOFT-CDO-ALLDAYEVENT:FALSE
SUMMARY:Ribbon Cutting for Sole Reflextions Spa & Energy Healing Center
DESCRIPTION:Ribbon cutting to celebrate new business grand opening
X-ALT-DESC;FMTTYPE=text/html:Ribbon cutting to celebrate new business grand opening&nbsp\;
LOCATION:109B West 5th Street\, Fulton\, MO
UID:e.1836.10723
SEQUENCE:3
DTSTAMP:20260424T080204Z
URL:https://business.callawaychamber.net/events/details/ribbon-cutting-for-sole-reflextions-spa-energy-healing-center-10723
END:VEVENT

END:VCALENDAR
