BEGIN:VCALENDAR
VERSION:2.0
PRODID:-//ChamberMaster//Event Calendar 2.0//EN
METHOD:PUBLISH
X-PUBLISHED-TTL:P3D
REFRESH-INTERVAL:P3D
CALSCALE:GREGORIAN
BEGIN:VEVENT
DTSTART:20200618T150000Z
DTEND:20200618T160000Z
X-MICROSOFT-CDO-ALLDAYEVENT:FALSE
SUMMARY:Ribbon Tying Celebration
DESCRIPTION:Join us for a great celebration celebrating YOU! This is great exposure for your business with community involvement and to show the community you are here for them. We can't wait to celebrate with you!
X-ALT-DESC;FMTTYPE=text/html:<span class="JsGRdQ" style="font-weight: 700\;">Join us for a great celebration celebrating YOU!</span><span class="JsGRdQ white-space-prewrap" style="font-weight: 700\;"> </span><span class="JsGRdQ" style="font-weight: 700\;">This is great exposure for your business with community involvement and to show the community you are here for them.</span><span class="JsGRdQ white-space-prewrap" style="font-weight: 700\;"> </span><span class="JsGRdQ" style="font-weight: 700\;">We can&#39\;t wait to celebrate with you!</span>
LOCATION:Memorial Park - Fulton
UID:e.1836.10693
SEQUENCE:3
DTSTAMP:20260424T151113Z
URL:https://business.callawaychamber.net/events/details/ribbon-tying-celebration-10693
END:VEVENT

END:VCALENDAR
