BEGIN:VCALENDAR
VERSION:2.0
PRODID:-//ChamberMaster//Event Calendar 2.0//EN
METHOD:PUBLISH
X-PUBLISHED-TTL:P3D
REFRESH-INTERVAL:P3D
CALSCALE:GREGORIAN
BEGIN:VEVENT
DTSTART:20191019T150000Z
DTEND:20191019T230000Z
X-MICROSOFT-CDO-ALLDAYEVENT:FALSE
SUMMARY:Rock Garden Antique Barn Fall Festival
DESCRIPTION:Join us for a day full of fun and fellowship as we celebrate our fall festival. We will again be making homemade apple butter in the rock garden\, Lizzy's Lifesavers will be having a bake sale with proceeds going to the Cystic Fibrosis Foundation\, hay rides\, face painting\, kettle corn and pumpkin painting will all be happening! We will also be having a few vendors set up outside with their merchandise.
X-ALT-DESC;FMTTYPE=text/html:Join us for a day full of fun and fellowship as we celebrate our fall festival. We will again be making homemade apple butter in the rock garden\, Lizzy&#39\;s Lifesavers will be having a bake sale with proceeds going to the Cystic Fibrosis Foundation\, hay rides\, face painting\, kettle corn and pumpkin painting will all be happening! We will also be having a few vendors set up outside with their merchandise.
LOCATION:Rock Garden /antique Barn 4382 State Road F Fulton\, MO
UID:e.1836.10594
SEQUENCE:3
DTSTAMP:20260425T025952Z
URL:https://business.callawaychamber.net/events/details/rock-garden-antique-barn-fall-festival-10-19-2019-10594
END:VEVENT

END:VCALENDAR
