BEGIN:VCALENDAR
VERSION:2.0
PRODID:-//ChamberMaster//Event Calendar 2.0//EN
METHOD:PUBLISH
X-PUBLISHED-TTL:P3D
REFRESH-INTERVAL:P3D
CALSCALE:GREGORIAN
BEGIN:VEVENT
DTSTART:20180712T150000Z
DTEND:20180714T230000Z
X-MICROSOFT-CDO-ALLDAYEVENT:FALSE
SUMMARY:Rooster Creek Quilt Show
DESCRIPTION:Rooster Creek Quilt Show\n\nThere will be quilts on display-voting by people's choice\, door prizes\, drawing\, raffles\, vendors\, demonstrations\, concessions and more.\n\nThe Rooster Creek Quilt Guild will be raffling off two quilts as a service project. \n\nJoin us for lots of beautiful quilts\, awesome vendors\, lots of door prizes and drawings!
X-ALT-DESC;FMTTYPE=text/html:Rooster Creek Quilt Show<br />\nThere will be quilts on display-voting by people&#39\;s choice\, door prizes\, drawing\, raffles\, vendors\, demonstrations\, concessions and more.<br />\nThe Rooster Creek Quilt Guild will be raffling off two quilts as a service project.&nbsp\;<br />\nJoin us for lots of beautiful quilts\, awesome vendors\, lots of door prizes and drawings!
LOCATION:176 West Simon Blvd. Holts Summit MO 65043
UID:e.1836.10279
SEQUENCE:3
DTSTAMP:20260426T042325Z
URL:https://business.callawaychamber.net/events/details/rooster-creek-quilt-show-10279
END:VEVENT

END:VCALENDAR
