BEGIN:VCALENDAR
VERSION:2.0
PRODID:-//ChamberMaster//Event Calendar 2.0//EN
METHOD:PUBLISH
X-PUBLISHED-TTL:P3D
REFRESH-INTERVAL:P3D
CALSCALE:GREGORIAN
BEGIN:VEVENT
DTSTART:20190410T150000Z
DTEND:20190410T170000Z
X-MICROSOFT-CDO-ALLDAYEVENT:FALSE
SUMMARY:SBA Lenders Workshop
DESCRIPTION:SBA Lenders Workshop
X-ALT-DESC;FMTTYPE=text/html:SBA Lenders Workshop&nbsp\;&nbsp\;&nbsp\;&nbsp\;
LOCATION:Callaway Chamber of Commerce Training Room 510 Market St. Fulton MO 65251
UID:e.1836.10547
SEQUENCE:3
DTSTAMP:20260425T123310Z
URL:https://business.callawaychamber.net/events/details/sba-lenders-workshop-10547
END:VEVENT

END:VCALENDAR
