BEGIN:VCALENDAR
VERSION:2.0
PRODID:-//ChamberMaster//Event Calendar 2.0//EN
METHOD:PUBLISH
X-PUBLISHED-TTL:P3D
REFRESH-INTERVAL:P3D
CALSCALE:GREGORIAN
BEGIN:VEVENT
DTSTART:20200507T190000Z
DTEND:20200507T200000Z
X-MICROSOFT-CDO-ALLDAYEVENT:FALSE
SUMMARY:Scams Targeting Businesses During Covid-19
DESCRIPTION:Join us and Better Business Bureau regional director\, Michelle Gleba\, on discussing scams targeting businesses & free services they are offering businesses during this time.
X-ALT-DESC;FMTTYPE=text/html:<h1 class="_5gmx" data-testid="event-permalink-event-name" id="seo_h1_tag" style="color: rgb(29\, 33\, 41)\; font-size: 20px\; margin: 0px 12px 0px 0px\; padding: 0px\; line-height: 28px\; font-family: Helvetica\, Arial\, sans-serif\;"><span style="color: rgb(29\, 33\, 41)\; font-family: Helvetica\, Arial\, sans-serif\; font-size: 14px\; white-space: pre-wrap\;">Join us and Better Business Bureau regional director\, Michelle Gleba\, on discussing scams targeting businesses &amp\; free services they are offering businesses during this time.</span></h1>\n
LOCATION:Zoom
UID:e.1836.10683
SEQUENCE:3
DTSTAMP:20260424T164226Z
URL:https://business.callawaychamber.net/events/details/scams-targeting-businesses-during-covid-19-10683
END:VEVENT

END:VCALENDAR
