BEGIN:VCALENDAR
VERSION:2.0
PRODID:-//ChamberMaster//Event Calendar 2.0//EN
METHOD:PUBLISH
X-PUBLISHED-TTL:P3D
REFRESH-INTERVAL:P3D
CALSCALE:GREGORIAN
BEGIN:VEVENT
DTSTART:20191026T010000Z
DTEND:20191026T050000Z
X-MICROSOFT-CDO-ALLDAYEVENT:FALSE
SUMMARY:Serve's Halloween Charity Ball
DESCRIPTION:This is THE Halloween event of the decade that you will NOT want to miss! We hope you'll join SERVE\, Inc at our Halloween Party with a Purpose. 100% of all money raised stays right here in Callaway County to help local families in need. This event will make it possible for SERVE to continue providing food\, clothing\, transportation\, life saving medications\, utility assistance\, school supplies\, Christmas gifts for children\, emergency financial assistance\, disaster relief and so much more to our Callaway County neighbors in need!
X-ALT-DESC;FMTTYPE=text/html:<span style="color: rgb(29\, 33\, 41)\; font-family: Helvetica\, Arial\, sans-serif\; font-size: 14px\; white-space: pre-wrap\; background-color: rgb(255\, 255\, 255)\;">This is THE Halloween event of the decade that you will NOT want to miss! We hope you&#39\;ll join </span><a href="https://www.facebook.com/oneserveonemission/" style="color: rgb(56\, 88\, 152)\; cursor: pointer\; text-decoration-line: none\; font-family: Helvetica\, Arial\, sans-serif\; font-size: 14px\; white-space: pre-wrap\; background-color: rgb(255\, 255\, 255)\;" target="_blank">SERVE\, Inc</a><span style="color: rgb(29\, 33\, 41)\; font-family: Helvetica\, Arial\, sans-serif\; font-size: 14px\; white-space: pre-wrap\; background-color: rgb(255\, 255\, 255)\;"> at our Halloween Party with a Purpose. 100% of all money raised stays right here in Callaway County to help local families in need. This event will make it possible for SERVE to continue providing food\, clothing\, transportation\, life saving medications\, utility assistance\, school supplies\, Christmas gifts for children\, emergency financial assistance\, disaster relief and so much more to our Callaway County neighbors in need!</span>
LOCATION:Brick District Playhouse 613 Court St. Fulton MO 65251
UID:e.1836.10600
SEQUENCE:3
DTSTAMP:20260425T025836Z
URL:https://business.callawaychamber.net/events/details/serve-s-halloween-charity-ball-10600
END:VEVENT

END:VCALENDAR
