BEGIN:VCALENDAR
VERSION:2.0
PRODID:-//ChamberMaster//Event Calendar 2.0//EN
METHOD:PUBLISH
X-PUBLISHED-TTL:P3D
REFRESH-INTERVAL:P3D
CALSCALE:GREGORIAN
BEGIN:VEVENT
DTSTART;VALUE=DATE:20201201
DTEND;VALUE=DATE:20201219
TRANSP:TRANSPARENT
X-MICROSOFT-CDO-ALLDAYEVENT:TRUE
SUMMARY:Shop Small Advent Calendar
DESCRIPTION:Community members will be able to enter to win the Shop Small Advent Calendar gift of the day each day from December 1st through December 18th!
X-ALT-DESC;FMTTYPE=text/html:Community members will be able to enter to win the Shop Small Advent Calendar gift of the day each day from December 1st through December 18th!
LOCATION:Online thorugh Facebook
UID:e.1836.10738
SEQUENCE:3
DTSTAMP:20260424T044201Z
URL:https://business.callawaychamber.net/events/details/shop-small-advent-calendar-10738
END:VEVENT

END:VCALENDAR
