BEGIN:VCALENDAR
VERSION:2.0
PRODID:-//ChamberMaster//Event Calendar 2.0//EN
METHOD:PUBLISH
X-PUBLISHED-TTL:P3D
REFRESH-INTERVAL:P3D
CALSCALE:GREGORIAN
BEGIN:VEVENT
DTSTART:20201209T150000Z
DTEND:20201209T160000Z
X-MICROSOFT-CDO-ALLDAYEVENT:FALSE
SUMMARY:Small Business Development Center Webinar
DESCRIPTION:Small Business Development Center Webinar
X-ALT-DESC;FMTTYPE=text/html:Small Business Development Center Webinar
LOCATION:Zoom
UID:e.1836.10758
SEQUENCE:3
DTSTAMP:20260424T043937Z
URL:https://business.callawaychamber.net/events/details/small-business-development-center-webinar-10758
END:VEVENT

END:VCALENDAR
