BEGIN:VCALENDAR
VERSION:2.0
PRODID:-//ChamberMaster//Event Calendar 2.0//EN
METHOD:PUBLISH
X-PUBLISHED-TTL:P3D
REFRESH-INTERVAL:P3D
CALSCALE:GREGORIAN
BEGIN:VEVENT
DTSTART:20200723T180000Z
DTEND:20200723T190000Z
X-MICROSOFT-CDO-ALLDAYEVENT:FALSE
SUMMARY:Small Business Recovery Grant Webinar
DESCRIPTION:Join us to learn more about the FADF Small Business Recovery Grant which is provided through CARES Act Funding from Callaway County.  You will learn about eligibility and how to apply.
X-ALT-DESC;FMTTYPE=text/html:Join us to learn more about the FADF Small Business Recovery Grant which is provided through CARES Act Funding from Callaway County.&nbsp\; You will learn about eligibility and how to apply.&nbsp\;&nbsp\;
LOCATION:Zoom Webinar
UID:e.1836.10706
SEQUENCE:3
DTSTAMP:20260424T132814Z
URL:https://business.callawaychamber.net/events/details/small-business-recovery-grant-webinar-10706
END:VEVENT

END:VCALENDAR
