BEGIN:VCALENDAR
VERSION:2.0
PRODID:-//ChamberMaster//Event Calendar 2.0//EN
METHOD:PUBLISH
X-PUBLISHED-TTL:P3D
REFRESH-INTERVAL:P3D
CALSCALE:GREGORIAN
BEGIN:VEVENT
DTSTART:20200423T190000Z
DTEND:20200423T200000Z
X-MICROSOFT-CDO-ALLDAYEVENT:FALSE
SUMMARY:Social Media Marketing Class
DESCRIPTION:Your online presence is more important than ever during this\n\ntime to ensure you are connecting with your clients and\n\ncustomers. The Chamber has partnered with founder of CatchPhrase Communications\, Jenny O'Donley\, who will be providing a FREE webinar on maximizing your online presence & how to keep your audience engaged during this time.
X-ALT-DESC;FMTTYPE=text/html:<span style="color: rgb(29\, 33\, 41)\; font-family: Helvetica\, Arial\, sans-serif\; font-size: 14px\; white-space: pre-wrap\;">Your online presence is more important than ever during this</span><br style="color: rgb(29\, 33\, 41)\; font-family: Helvetica\, Arial\, sans-serif\; font-size: 14px\; white-space: pre-wrap\;" />\n<span style="color: rgb(29\, 33\, 41)\; font-family: Helvetica\, Arial\, sans-serif\; font-size: 14px\; white-space: pre-wrap\;">time to ensure you are connecting with your clients and</span><br style="color: rgb(29\, 33\, 41)\; font-family: Helvetica\, Arial\, sans-serif\; font-size: 14px\; white-space: pre-wrap\;" />\n<span style="color: rgb(29\, 33\, 41)\; font-family: Helvetica\, Arial\, sans-serif\; font-size: 14px\; white-space: pre-wrap\;">customers. The Chamber has partnered with founder of CatchPhrase Communications\, Jenny O&#39\;Donley\, who will be providing a FREE webinar on maximizing your online presence &amp\; how to keep your audience engaged during this time.</span>
LOCATION:Zoom Meeting Platform
UID:e.1836.10680
SEQUENCE:3
DTSTAMP:20260424T182142Z
URL:https://business.callawaychamber.net/events/details/social-media-marketing-class-10680
END:VEVENT

END:VCALENDAR
