BEGIN:VCALENDAR
VERSION:2.0
PRODID:-//ChamberMaster//Event Calendar 2.0//EN
METHOD:PUBLISH
X-PUBLISHED-TTL:P3D
REFRESH-INTERVAL:P3D
CALSCALE:GREGORIAN
BEGIN:VEVENT
DTSTART:20201031T220000Z
DTEND:20201101T000000Z
X-MICROSOFT-CDO-ALLDAYEVENT:FALSE
SUMMARY:Southside Baptist Church Trunk-OR-Treat
DESCRIPTION:Food\, door prizes\, and fun for the whole family!
X-ALT-DESC;FMTTYPE=text/html:Food\, door prizes\, and fun for the whole family!
LOCATION:Southside Baptist Church 395 Country Meadows\, Fulton\, MO 65251
UID:e.1836.10744
SEQUENCE:3
DTSTAMP:20260424T080030Z
URL:https://business.callawaychamber.net/events/details/southside-baptist-church-trunk-or-treat-10744
END:VEVENT

END:VCALENDAR
