BEGIN:VCALENDAR
VERSION:2.0
PRODID:-//ChamberMaster//Event Calendar 2.0//EN
METHOD:PUBLISH
X-PUBLISHED-TTL:P3D
REFRESH-INTERVAL:P3D
CALSCALE:GREGORIAN
BEGIN:VEVENT
DTSTART:20171031T210000Z
DTEND:20171031T230000Z
X-MICROSOFT-CDO-ALLDAYEVENT:FALSE
SUMMARY:Spooky Sidewalks
DESCRIPTION:The Fulton community is invited to Westminster College for its annual Spooky Sidewalks Halloween event on October 31 from 4-6 pm on the Hill\, sponsored by Campus Activities Board. Campus groups will host booths featuring games\, activities\, and plenty of Halloween candy!
X-ALT-DESC;FMTTYPE=text/html:The Fulton community is invited to Westminster College for its annual Spooky Sidewalks Halloween event on October 31 from 4-6 pm on the Hill\, sponsored by Campus Activities Board. Campus groups will host booths featuring games\, activities\, and plenty of Halloween candy!
LOCATION:Westminster College 501 Westminster Ave Fulton\, MO 65251
UID:e.1836.10238
SEQUENCE:3
DTSTAMP:20260422T060846Z
URL:https://business.callawaychamber.net/events/details/spooky-sidewalks-10238
END:VEVENT

END:VCALENDAR
