BEGIN:VCALENDAR
VERSION:2.0
PRODID:-//ChamberMaster//Event Calendar 2.0//EN
METHOD:PUBLISH
X-PUBLISHED-TTL:P3D
REFRESH-INTERVAL:P3D
CALSCALE:GREGORIAN
BEGIN:VEVENT
DTSTART:20180510T203000Z
DTEND:20180510T220000Z
X-MICROSOFT-CDO-ALLDAYEVENT:FALSE
SUMMARY:Spring Women's Networking
DESCRIPTION:Spring Women's Networking\n\nLadies pick a pot and plants and make arrangements\, cost is anything you buy.  Asking each participant to bring either a snack or a bottle of wine to share\, water will be provided.
X-ALT-DESC;FMTTYPE=text/html:Spring Women&#39\;s Networking<br />\nLadies pick a pot and plants and make arrangements\, cost is anything you buy.&nbsp\; Asking each participant to bring either a snack or a bottle of wine to share\, water will be provided.&nbsp\;&nbsp\;&nbsp\;&nbsp\;
LOCATION:Truescape Landscaping 510 Gaylord Drive Fulton MO 65251
UID:e.1836.10308
SEQUENCE:3
DTSTAMP:20260420T052253Z
URL:https://business.callawaychamber.net/events/details/spring-women-s-networking-10308
END:VEVENT

END:VCALENDAR
