BEGIN:VCALENDAR
VERSION:2.0
PRODID:-//ChamberMaster//Event Calendar 2.0//EN
METHOD:PUBLISH
X-PUBLISHED-TTL:P3D
REFRESH-INTERVAL:P3D
CALSCALE:GREGORIAN
BEGIN:VEVENT
DTSTART:20181021T230000Z
DTEND:20181022T010000Z
X-MICROSOFT-CDO-ALLDAYEVENT:FALSE
SUMMARY:Stories of Hope\, Songs of Promise
DESCRIPTION:Speakers:  Denise Kloeppel & Connie Cashion\n\nBands:  Disciple & Decyfer Down
X-ALT-DESC;FMTTYPE=text/html:Speakers:&nbsp\; Denise Kloeppel &amp\; Connie Cashion<br />\nBands:&nbsp\; Disciple &amp\; Decyfer Down
LOCATION:54 Country 400 Gaylord Drive Fulton\, MO 65251
UID:e.1836.10509
SEQUENCE:3
DTSTAMP:20260425T230950Z
URL:https://business.callawaychamber.net/events/details/stories-of-hope-songs-of-promise-10509
END:VEVENT

END:VCALENDAR
