BEGIN:VCALENDAR
VERSION:2.0
PRODID:-//ChamberMaster//Event Calendar 2.0//EN
METHOD:PUBLISH
X-PUBLISHED-TTL:P3D
REFRESH-INTERVAL:P3D
CALSCALE:GREGORIAN
BEGIN:VEVENT
DTSTART;VALUE=DATE:20210924
DTEND;VALUE=DATE:20210925
TRANSP:TRANSPARENT
X-MICROSOFT-CDO-ALLDAYEVENT:TRUE
SUMMARY:Super Sam Foundation Hope Gala
DESCRIPTION:The seventh annual Super Sam Foundation Hope Gala: A New Season of Hope\, presented by KT Diamond Jewelers\, is Friday\, September 24\, 2021.\n\n \n\nThe Foundation is excited to bring this fun and meaningful event back in 2021. We have learned a lot about how to be inclusive to those unable to attend in person. This year's event will be primarily an in-seat event\; however\, we will be offering a few opportunities to join the fun virtually\, too. Portions of our event will be live streamed and select auction items will be available through an online auction.\n\n \n\nThe evening will be filled with amazing auction items\, dinner\, signature drinks\, entertainment\, and an update on the work and accomplishments the Super Sam Foundation has made in the past few years. Your support makes our mission to help "All the Kids" through awareness\, support\, advocacy\, and research possible. We look forward to sharing our latest progress with you on September 24th!\n\n \n\nDoors open at 5:30 for cocktails\, raffles\, and silent auction. Dinner begins at 7:00\, followed by an update on the work you make possible\, and the live auction.\n\nWe rely on the support of you\, our donors\, to make this night our largest fundraiser of the year. If you are interested in contributing an item for silent or live auctions\, please contact info@SuperSamFoundation.com. If you are interested in sponsorship opportunities of all sizes\, please contact Kelly@SuperSamFoundation.com.\n\n \n\nWe are eager to connect with you\; if you have any questions\, please contact us at info@SuperSamFoundation.com\, on Facebook\, or on Instagram. \n\n \n\nThank you for allowing us the opportunity to fulfill Sam's wish. We are forever grateful for your help in keeping Sam's wish alive to help All the Kids.\n\n \n\nFor "All the Kids\," \n\nMatt\, Cassie\, Ava and the Super Sam Team\n\n\n\nhttps://supersamfoundation.networkforgood.com/events/30875-a-new-season-of-hope-hope-gala-2021
X-ALT-DESC;FMTTYPE=text/html:The seventh annual Super Sam Foundation Hope Gala: A New Season of Hope\, presented by KT Diamond Jewelers\, is Friday\, September 24\, 2021.<br />\n&nbsp\;<br />\nThe Foundation is excited to bring this fun and meaningful event back in 2021. We have learned a lot about how to be inclusive to those unable to attend in person. This year&#39\;s event will be primarily an in-seat event\; however\, we will be offering a few opportunities to join the fun virtually\, too. Portions of our event will be live streamed and select auction items will be available through an online auction.<br />\n&nbsp\;<br />\nThe evening will be filled with amazing auction items\, dinner\, signature drinks\, entertainment\, and an update on the work and accomplishments the Super Sam Foundation has made in the past few years. Your support makes our mission to help &quot\;All the Kids&quot\; through awareness\, support\, advocacy\, and research possible. We look forward to sharing our latest progress with you on September 24th!<br />\n&nbsp\;<br />\nDoors open at 5:30 for cocktails\, raffles\, and silent auction. Dinner begins at 7:00\, followed by an update on the work you make possible\, and the live auction.<br />\nWe rely on the support of you\, our donors\, to make this night our largest fundraiser of the year. If you are interested in contributing an item for silent or live auctions\, please contact <a href="mailto:info@SuperSamFoundation.com">info@SuperSamFoundation.com</a>. If you are interested in sponsorship opportunities of all sizes\, please contact <a href="mailto:Kelly@SuperSamFoundation.com">Kelly@SuperSamFoundation.com</a>.<br />\n&nbsp\;<br />\nWe are eager to connect with you\; if you have any questions\, please contact us at <a href="mailto:info@SuperSamFoundation.com">info@SuperSamFoundation.com</a>\, on Facebook\, or on Instagram.&nbsp\;<br />\n&nbsp\;<br />\nThank you for allowing us the opportunity to fulfill Sam&#39\;s wish. We are forever grateful for your help in keeping Sam&#39\;s wish alive to help All the Kids.<br />\n&nbsp\;<br />\nFor &quot\;All the Kids\,&quot\;&nbsp\;<br />\nMatt\, Cassie\, Ava and the Super Sam Team<br />\n<br />\n<a href="https://supersamfoundation.networkforgood.com/events/30875-a-new-season-of-hope-hope-gala-2021">https://supersamfoundation.networkforgood.com/events/30875-a-new-season-of-hope-hope-gala-2021</a><br />\n&nbsp\;
LOCATION:
UID:e.1836.10824
SEQUENCE:3
DTSTAMP:20260424T164001Z
URL:https://business.callawaychamber.net/events/details/super-sam-foundation-hope-gala-10824
END:VEVENT

END:VCALENDAR
