BEGIN:VCALENDAR
VERSION:2.0
PRODID:-//ChamberMaster//Event Calendar 2.0//EN
METHOD:PUBLISH
X-PUBLISHED-TTL:P3D
REFRESH-INTERVAL:P3D
CALSCALE:GREGORIAN
BEGIN:VEVENT
DTSTART:20201031T200000Z
DTEND:20201101T040000Z
X-MICROSOFT-CDO-ALLDAYEVENT:FALSE
SUMMARY:The Fulton Country Club Costume Party & Trunk or Treat
DESCRIPTION:Trunk or Treat and hayrides for the kids from 3PM to 5PM\, anyone who would like to participate in the trunk or treat\, please RSVP.  \n\n\n\n7PM to 12AM\, drinks\, music\, laughter\, and a ghoulish good time.  \n\n\n\nCouples $25 and singles $15 a ticket.  Ticket includes first drink free and finger food buffett.  Buy tickets in advance or at the door.  The best costumes get prizes!  Come join us\, we would love to have you for dinner! \n\n\n\nRSVP to Chef Tom at fultoncountryclubchef@gmail.com
X-ALT-DESC;FMTTYPE=text/html:Trunk or Treat and hayrides for the kids from 3PM to 5PM\, anyone who would like to participate in the trunk or treat\, please RSVP.&nbsp\;&nbsp\;<br />\n<br />\n7PM to 12AM\, drinks\, music\, laughter\, and a ghoulish good time.&nbsp\;&nbsp\;<br />\n<br />\nCouples $25 and singles $15 a ticket.&nbsp\; Ticket includes first drink free and finger food buffett.&nbsp\; Buy tickets in advance or at the door.&nbsp\; The best costumes get prizes!&nbsp\; Come join us\, we would love to have you for dinner!&nbsp\;<br />\n<br />\nRSVP to Chef Tom at fultoncountryclubchef@gmail.com
LOCATION:Fulton Country Club 701 E 10th St\, Fulton\, MO 65251
UID:e.1836.10748
SEQUENCE:3
DTSTAMP:20260424T080223Z
URL:https://business.callawaychamber.net/events/details/the-fulton-country-club-costume-party-trunk-or-treat-10748
END:VEVENT

END:VCALENDAR
