BEGIN:VCALENDAR
VERSION:2.0
PRODID:-//ChamberMaster//Event Calendar 2.0//EN
METHOD:PUBLISH
X-PUBLISHED-TTL:P3D
REFRESH-INTERVAL:P3D
CALSCALE:GREGORIAN
BEGIN:VEVENT
DTSTART:20211115T180000Z
DTEND:20211207T180000Z
X-MICROSOFT-CDO-ALLDAYEVENT:FALSE
SUMMARY:The Mizzou Alumni Association Callaway County Chapter Tiger Toys for Tots
DESCRIPTION:Help make the holidays happier for needy children. Tiger-related items are encouraged\, but other toys are welcome\, including stuffed animals\, games\, toys and books.
X-ALT-DESC;FMTTYPE=text/html:Help make the holidays happier for needy children. Tiger-related items are encouraged\, but other toys are welcome\, including stuffed animals\, games\, toys and books.
LOCATION:Drop off toys at Don Woodson's State Farm Office 517 Nichols by December 7
UID:e.1836.10934
SEQUENCE:3
DTSTAMP:20260424T194242Z
URL:https://business.callawaychamber.net/events/details/the-mizzou-alumni-association-callaway-county-chapter-tiger-toys-for-tots-10934
END:VEVENT

END:VCALENDAR
