BEGIN:VCALENDAR
VERSION:2.0
PRODID:-//ChamberMaster//Event Calendar 2.0//EN
METHOD:PUBLISH
X-PUBLISHED-TTL:P3D
REFRESH-INTERVAL:P3D
CALSCALE:GREGORIAN
BEGIN:VEVENT
DTSTART:20200519T190000Z
DTEND:20200519T200000Z
X-MICROSOFT-CDO-ALLDAYEVENT:FALSE
SUMMARY:Update from DC with Congressman Blaine Luetkemeyer
DESCRIPTION:Join us for a national update as Congressman Blaine Luetkemeyer discusses updates in Washington D.C. and answers questions from the audience. \n\n \n\nQuestions can be submitted prior to Justis at marketing@callawaychamber.net.
X-ALT-DESC;FMTTYPE=text/html:<p class="_04xlpA direction-ltr align-center para-style-body" style="line-height: 1.69\; font-family: &quot\;YACgEQNAr7w 0&quot\;\, _fb_\, auto\; font-size: 9.20207px\; color: rgb(168\, 51\, 39)\;"><span class="JsGRdQ" style="font-weight: 700\;">Join us for a national update as Congressman Blaine Luetkemeyer discusses updates in Washington D.C. and answers questions from the audience.</span><span class="JsGRdQ white-space-prewrap" style="font-weight: 700\;"> </span></p>\n\n<p class="_04xlpA direction-ltr align-center para-style-body" style="line-height: 1.69\; font-family: &quot\;YACgEQNAr7w 0&quot\;\, _fb_\, auto\; font-size: 9.20207px\; color: rgb(168\, 51\, 39)\;">&nbsp\;</p>\n\n<p class="_04xlpA direction-ltr align-center para-style-body" style="line-height: 1.69\; font-family: &quot\;YACgEQNAr7w 0&quot\;\, _fb_\, auto\; font-size: 9.20207px\; color: rgb(168\, 51\, 39)\;"><span class="JsGRdQ" style="font-weight: 700\;">Questions can be submitted prior to Justis at marketing@callawaychamber.net.</span></p>\n
LOCATION:Zoom Meeting
UID:e.1836.10689
SEQUENCE:3
DTSTAMP:20260424T164109Z
URL:https://business.callawaychamber.net/events/details/update-from-dc-with-congressman-blaine-luetkemeyer-10689
END:VEVENT

END:VCALENDAR
