BEGIN:VCALENDAR
VERSION:2.0
PRODID:-//ChamberMaster//Event Calendar 2.0//EN
METHOD:PUBLISH
X-PUBLISHED-TTL:P3D
REFRESH-INTERVAL:P3D
CALSCALE:GREGORIAN
BEGIN:VEVENT
DTSTART:20181024T140000Z
DTEND:20181024T160000Z
X-MICROSOFT-CDO-ALLDAYEVENT:FALSE
SUMMARY:US Small Business Administration
DESCRIPTION:The U.S. Small Business Administration (SBA) St. Louis District Office will hold office hours at the Callaway Chamber of Commerce located at 510 Market Street Fulton\, MO  65251 on Wednesday October 24 from 9:00 to 11:00 am.\n\nCome meet with an SBA representative to find out more about all of the services offered by SBA to help you start\, grow or expand your small business. Whether you need funding for your business\, want to sign up for free mentoring and business counseling services or would like to grow your revenues by providing goods and services to the government   this is your opportunity.
X-ALT-DESC;FMTTYPE=text/html:<span style="font-size:11.5pt\;">The U.S. Small Business Administration (SBA) St. Louis District Office will hold office hours at the Callaway Chamber of Commerce located at 510 Market Street Fulton\, MO&nbsp\; 65251 on Wednesday October 24 from 9:00 to 11:00 am.</span><br />\n<span style="font-size:11.5pt\;">Come meet with an SBA representative to find out more about all of the services offered by SBA to help you start\, grow or expand your small business. Whether you need funding for your business\, want to sign up for free mentoring and business counseling services or would like to grow your revenues by providing goods and services to the government &ndash\; this is your opportunity.</span>
LOCATION:Callaway Chamber of Commerce 510 Market Street Fulton MO 65251
UID:e.1836.10374
SEQUENCE:3
DTSTAMP:20260420T031437Z
URL:https://business.callawaychamber.net/events/details/us-small-business-administration-10374
END:VEVENT

END:VCALENDAR
