BEGIN:VCALENDAR
VERSION:2.0
PRODID:-//ChamberMaster//Event Calendar 2.0//EN
METHOD:PUBLISH
X-PUBLISHED-TTL:P3D
REFRESH-INTERVAL:P3D
CALSCALE:GREGORIAN
BEGIN:VEVENT
DTSTART:20200918T150000Z
DTEND:20200918T160000Z
X-MICROSOFT-CDO-ALLDAYEVENT:FALSE
SUMMARY:Utility Grant: What You Need To Know
DESCRIPTION:Join has we cover the "ins and outs" of the latest Callaway County grant for small businesses. The grant will cover eligible applicants\, what is classified as a utility\, and more!
X-ALT-DESC;FMTTYPE=text/html:<span style="color: rgb(5\, 5\, 5)\; font-family: &quot\;Segoe UI Historic&quot\;\, &quot\;Segoe UI&quot\;\, Helvetica\, Arial\, sans-serif\; font-size: 15px\;">Join has we cover the &quot\;ins and outs&quot\; of the latest Callaway County grant for small businesses. The grant will cover eligible applicants\, what is classified as a utility\, and more!</span>
LOCATION:Zoom
UID:e.1836.10718
SEQUENCE:3
DTSTAMP:20260424T094317Z
URL:https://business.callawaychamber.net/events/details/utility-grant-what-you-need-to-know-10718
END:VEVENT

END:VCALENDAR
