BEGIN:VCALENDAR
VERSION:2.0
PRODID:-//ChamberMaster//Event Calendar 2.0//EN
METHOD:PUBLISH
X-PUBLISHED-TTL:P3D
REFRESH-INTERVAL:P3D
CALSCALE:GREGORIAN
BEGIN:VEVENT
DTSTART:20180730T223000Z
DTEND:20180804T013000Z
X-MICROSOFT-CDO-ALLDAYEVENT:FALSE
SUMMARY:Vacation Bible School - Game On! @ FBC
DESCRIPTION:Vacation Bible School 2018 is back! Join us for several days of fun\, crafts\, games\, music\, food and more. VBS is open to all kids entering Kindergarten through 6th grade. All activities and dinner are free for registered children. You may register online: www.fbcfultonmo.org
X-ALT-DESC;FMTTYPE=text/html:Vacation Bible School 2018 is back! Join us for several days of fun\, crafts\, games\, music\, food and more. VBS is open to all kids entering Kindergarten through 6th grade. All activities and dinner are free for registered children. You may register online: www.fbcfultonmo.org
LOCATION:First Baptist Church 701 Court Street Fulton\, MO 65251 (573) 642-3348
UID:e.1836.10330
SEQUENCE:3
DTSTAMP:20260426T042213Z
URL:https://business.callawaychamber.net/events/details/vacation-bible-school-game-on-fbc-10330
END:VEVENT

END:VCALENDAR
