BEGIN:VCALENDAR
VERSION:2.0
PRODID:-//ChamberMaster//Event Calendar 2.0//EN
METHOD:PUBLISH
X-PUBLISHED-TTL:P3D
REFRESH-INTERVAL:P3D
CALSCALE:GREGORIAN
BEGIN:VEVENT
DTSTART:20210121T000000Z
DTEND:20210121T013000Z
X-MICROSOFT-CDO-ALLDAYEVENT:FALSE
SUMMARY:Virtual Budgeting & Credit Repair Class
DESCRIPTION:CMCA & the United Credit Union are teaming up to provide a FREE\, VIRTUAL Budgeting/Credit Repair Class\; three monthly sessions.  Attached is the flyer for more details. Space is limited so please contact Kellie Pontius with CMCA directly for questions or to register!\n\n \n\n	\n		\n			Kellie Pontius\, M.Ed\, CCAP   Community Organizer\n\n			*NEW EMAIL: kelliep@cmca.us\n\n			Central Missouri Community Action\n		\n		\n			610 Collier Lane | Fulton\, MO. 65251\n\n			P: 573.642.3316 | F: 573.592.0977
X-ALT-DESC;FMTTYPE=text/html:CMCA &amp\; the United Credit Union are teaming up to provide a FREE\, VIRTUAL Budgeting/Credit Repair Class\; three monthly sessions.&nbsp\; Attached is the flyer for more details. Space is limited so please contact Kellie Pontius with CMCA directly for questions or to register!<br />\n&nbsp\;\n<table border="0" cellpadding="0" cellspacing="0">\n	<tbody>\n		<tr>\n			<td style="padding:0in 0in 0in 0in\;vertical-align:top\;"><strong><span style="color:#005288\;"><span style="font-family:roboto\;">Kellie Pontius\, M.Ed\, CCAP</span></span></strong><span style="font-family:times new roman\,serif\;">&nbsp\;&bull\;&nbsp\;</span><em><span style="color:#005288\;"><span style="font-family:roboto\;">Community Organizer</span></span></em><br />\n			<strong><span style="color:red\;"><span style="font-family:times new roman\,serif\;">*NEW EMAIL: <a href="mailto:kelliep@cmca.us" target="_blank">kelliep@cmca.us</a></span></span></strong><br />\n			<span style="color:#005288\;"><span style="font-family:roboto\;"><span style="font-size:10.0pt\;">Central Missouri Community Action</span></span></span></td>\n		</tr>\n		<tr>\n			<td style="padding:0in 0in 0in 0in\;vertical-align:top\;"><span style="color:blue\;"><span style="font-family:arial\,sans-serif\;"><span style="font-size:9.0pt\;">610 Collier Lane | Fulton\, MO. 65251<br />\n			P:&nbsp\;573.642.3316&nbsp\;| F:&nbsp\;573.592.0977</span></span></span></td>\n		</tr>\n	</tbody>\n</table>\n
LOCATION:Virtual
UID:e.1836.10763
SEQUENCE:3
DTSTAMP:20260424T044203Z
URL:https://business.callawaychamber.net/events/details/virtual-budgeting-credit-repair-class-10763
END:VEVENT

END:VCALENDAR
