BEGIN:VCALENDAR
VERSION:2.0
PRODID:-//ChamberMaster//Event Calendar 2.0//EN
METHOD:PUBLISH
X-PUBLISHED-TTL:P3D
REFRESH-INTERVAL:P3D
CALSCALE:GREGORIAN
BEGIN:VEVENT
DTSTART:20200916T183000Z
DTEND:20200916T193000Z
X-MICROSOFT-CDO-ALLDAYEVENT:FALSE
SUMMARY:What is JAG?
DESCRIPTION:This webinar will cover what JAG (Jobs for America's Graduates) is and how it is implemented in Fulton Public Schools.  This course\, taught by the JAG Specialist at FPS\, Joel Henley\, will also touch on why YOUR business would benefit from such a great program influencing our youth in the workforce.  Join the webinar to learn more about the program and why it will help Callaway County businesses.
X-ALT-DESC;FMTTYPE=text/html:This webinar will cover what JAG (Jobs for America&rsquo\;s Graduates) is and how it is implemented in Fulton Public Schools.&nbsp\; This course\, taught by the JAG Specialist at FPS\, Joel Henley\, will also touch on why YOUR business would benefit from such a great program influencing our youth in the workforce.&nbsp\; Join the webinar to learn more about the program and why it will help Callaway County businesses.
LOCATION:Zoom
UID:e.1836.10717
SEQUENCE:3
DTSTAMP:20260424T093941Z
URL:https://business.callawaychamber.net/events/details/what-is-jag-10717
END:VEVENT

END:VCALENDAR
