BEGIN:VCALENDAR
VERSION:2.0
PRODID:-//ChamberMaster//Event Calendar 2.0//EN
METHOD:PUBLISH
X-PUBLISHED-TTL:P3D
REFRESH-INTERVAL:P3D
CALSCALE:GREGORIAN
BEGIN:VEVENT
DTSTART:20180910T200000Z
DTEND:20180910T220000Z
X-MICROSOFT-CDO-ALLDAYEVENT:FALSE
SUMMARY:Women's Networking Group
DESCRIPTION:Learn how to protect and defend yourself at our Self Defense class for our Women's Networking Group.  Detective Kent from the Fulton Police Dept will be speaking at this event.
X-ALT-DESC;FMTTYPE=text/html:Learn how to protect and defend yourself at our Self Defense class for our Women&#39\;s Networking Group.&nbsp\; Detective Kent from the Fulton Police Dept will be speaking at this event.&nbsp\; &nbsp\;&nbsp\;
LOCATION:Callaway Chamber of Commerce 510 Market St. Fulton MO 65251
UID:e.1836.10376
SEQUENCE:3
DTSTAMP:20260426T004902Z
URL:https://business.callawaychamber.net/events/details/women-s-networking-group-10376
END:VEVENT

END:VCALENDAR
