BEGIN:VCALENDAR
VERSION:2.0
PRODID:-//ChamberMaster//Event Calendar 2.0//EN
METHOD:PUBLISH
X-PUBLISHED-TTL:P3D
REFRESH-INTERVAL:P3D
CALSCALE:GREGORIAN
BEGIN:VEVENT
DTSTART:20190404T130000Z
DTEND:20190404T160000Z
X-MICROSOFT-CDO-ALLDAYEVENT:FALSE
SUMMARY:Workplace Harassment Prevention
DESCRIPTION:WPH (Workplace Harassment Prevention) is in the headlines and most decision makers are too busy working on the nuts and bolts of their organizations to properly prevent. Those that do have a program are often working off of outdated policies\, procedures\, and training programs.\n\n \n\nJoin the Callaway County Chamber of Commerce this Thursday (4/4/19) from 8:00am to 11:00am for a WPH prevention course designed for decision makers in an organization (owners\, executive directors\, board of directors\, executive team\, and HR persons).\n\nOur Topics Include:\n\n            How an organization can protect itself from litigation and lawsuits\n\n            WPH Prevention Training for Supervisors\n\n            WPH Investigation\n\n            Preventing Retaliation Charges\n\n              WPH Prevention Training for Employees\n\n \n\nThe cost for this class is $100 and must RSVP if you are wishing to attend.
X-ALT-DESC;FMTTYPE=text/html:<span style="font-family:comic sans ms\;"><span style="font-size:10.0pt\;">WPH (Workplace Harassment Prevention) is in the headlines and most decision makers are too busy working on the nuts and bolts of their organizations to properly prevent. Those that do have a program are often working off of outdated policies\, procedures\, and training programs.</span></span><br />\n&nbsp\;<br />\n<span style="font-family:comic sans ms\;"><span style="font-size:10.0pt\;">Join the Callaway County Chamber of Commerce this Thursday (4/4/19) from 8:00am to 11:00am for a WPH prevention course designed for decision makers in an organization (owners\, executive directors\, board of directors\, executive team\, and HR persons).</span></span><br />\n<span style="font-family:comic sans ms\;"><span style="font-size:10.0pt\;">Our Topics Include:</span></span><br />\n<span style="font-family:comic sans ms\;"><span style="font-size:10.0pt\;">&bull\;&nbsp\;&nbsp\;&nbsp\;&nbsp\;&nbsp\;&nbsp\;&nbsp\;&nbsp\;&nbsp\;&nbsp\; How an organization can protect itself from litigation and lawsuits</span></span><br />\n<span style="font-family:comic sans ms\;"><span style="font-size:10.0pt\;">&bull\;&nbsp\;&nbsp\;&nbsp\;&nbsp\;&nbsp\;&nbsp\;&nbsp\;&nbsp\;&nbsp\;&nbsp\; WPH Prevention Training for Supervisors</span></span><br />\n<span style="font-family:comic sans ms\;"><span style="font-size:10.0pt\;">&bull\;&nbsp\;&nbsp\;&nbsp\;&nbsp\;&nbsp\;&nbsp\;&nbsp\;&nbsp\;&nbsp\;&nbsp\; WPH Investigation</span></span><br />\n<span style="font-family:comic sans ms\;"><span style="font-size:10.0pt\;">&bull\;&nbsp\;&nbsp\;&nbsp\;&nbsp\;&nbsp\;&nbsp\;&nbsp\;&nbsp\;&nbsp\;&nbsp\; Preventing Retaliation Charges</span></span><br />\n&bull\;&nbsp\;&nbsp\;&nbsp\;&nbsp\;&nbsp\;&nbsp\;&nbsp\;&nbsp\;&nbsp\;&nbsp\;&nbsp\;&nbsp\; WPH Prevention Training for Employees<br />\n&nbsp\;<br />\nThe cost for this class is $100 and must RSVP if you are wishing to attend.
LOCATION:Callaway Chamber of Commerce 510 Market St. Fulton MO 65251
UID:e.1836.10552
SEQUENCE:3
DTSTAMP:20260425T124029Z
URL:https://business.callawaychamber.net/events/details/workplace-harassment-prevention-10552
END:VEVENT

END:VCALENDAR
