BEGIN:VCALENDAR
VERSION:2.0
PRODID:-//ChamberMaster//Event Calendar 2.0//EN
METHOD:PUBLISH
X-PUBLISHED-TTL:P3D
REFRESH-INTERVAL:P3D
CALSCALE:GREGORIAN
BEGIN:VEVENT
DTSTART:20180407T223000Z
DTEND:20180408T023000Z
X-MICROSOFT-CDO-ALLDAYEVENT:FALSE
SUMMARY:YMCA Annual Auction & Dinner
DESCRIPTION:The 20th Annual YMCA Auction & Dinner features a live and a silent auction with proceeds benefiting program and membership scholarships. The event will have A Night Under the Big Top theme and will include music\, an open bar\, dinner\, and a show.
X-ALT-DESC;FMTTYPE=text/html:The 20th Annual YMCA Auction &amp\; Dinner features a live and a silent auction with proceeds benefiting program and membership scholarships. The event will have A Night Under the Big Top theme and will include music\, an open bar\, dinner\, and a show.
LOCATION:YMCA of Callaway County 1715 Wood Street Fulton\, Mo 65251
UID:e.1836.10276
SEQUENCE:3
DTSTAMP:20260420T002857Z
URL:https://business.callawaychamber.net/events/details/ymca-annual-auction-dinner-10276
END:VEVENT

END:VCALENDAR
