BEGIN:VCALENDAR
VERSION:2.0
PRODID:-//ChamberMaster//Event Calendar 2.0//EN
METHOD:PUBLISH
X-PUBLISHED-TTL:P3D
REFRESH-INTERVAL:P3D
CALSCALE:GREGORIAN
BEGIN:VEVENT
DTSTART:20190406T223000Z
DTEND:20190407T020000Z
X-MICROSOFT-CDO-ALLDAYEVENT:FALSE
SUMMARY:YMCA of Callaway County Annual Auction & Dinner
DESCRIPTION:This year's event is set for April 6th\, 2019\, and once again includes dinner as well as a live and silent auction. All proceeds benefit YMCA program & membership scholarships for families and children in need. More than ever\, support is needed for YMCA families! In 2018\, over $35\,000 in membership scholarships and over $10\,000 in program assistance were provided for families and youth\, making YMCA services accessible to over 1\,100 individuals\, who may not otherwise have been able to participate.
X-ALT-DESC;FMTTYPE=text/html:This year&rsquo\;s event is set for April 6th\, 2019\, and once again includes dinner as well as a live and silent auction. All proceeds benefit YMCA program &amp\; membership scholarships for families and children in need. More than ever\, support is needed for YMCA families! In 2018\, over $35\,000 in membership scholarships and over $10\,000 in program assistance were provided for families and youth\, making YMCA services accessible to over 1\,100 individuals\, who may not otherwise have been able to participate.
LOCATION:YMCA of Callaway County
UID:e.1836.10534
SEQUENCE:3
DTSTAMP:20260425T123740Z
URL:https://business.callawaychamber.net/events/details/ymca-of-callaway-county-annual-auction-dinner-10534
END:VEVENT

END:VCALENDAR
