BEGIN:VCALENDAR
VERSION:2.0
PRODID:-//ChamberMaster//Event Calendar 2.0//EN
METHOD:PUBLISH
X-PUBLISHED-TTL:P3D
REFRESH-INTERVAL:P3D
CALSCALE:GREGORIAN
BEGIN:VEVENT
DTSTART:20200506T150000Z
DTEND:20200506T160000Z
X-MICROSOFT-CDO-ALLDAYEVENT:FALSE
SUMMARY:Zoom Banner Basics
DESCRIPTION:Want to blow your colleagues away with a professional and polished looking background for your next Zoom meeting or conference call? Join us on Wednesday the May 6th at 10AM for a Zoom Banner Basics class! Justis will go over a great FREE program to design your banner\, how to format the template and how to upload to your Zoom platform. Justis will leave room for questions should those comes up during the course of the class.
X-ALT-DESC;FMTTYPE=text/html:<span style="color: rgb(29\, 33\, 41)\; font-family: Helvetica\, Arial\, sans-serif\; font-size: 14px\; white-space: pre-wrap\;">Want to blow your colleagues away with a professional and polished looking background for your next Zoom meeting or conference call? Join us on Wednesday the May 6th at 10AM for a Zoom Banner Basics class! Justis will go over a great FREE program to design your banner\, how to format the template and how to upload to your Zoom platform. Justis will leave room for questions should those comes up during the course of the class. </span>
LOCATION:Zoom
UID:e.1836.10684
SEQUENCE:3
DTSTAMP:20260424T163903Z
URL:https://business.callawaychamber.net/events/details/zoom-banner-basics-10684
END:VEVENT

END:VCALENDAR
